BEGIN:VCALENDAR
VERSION:2.0
PRODID:-//Point of Rocks Campground - ECPv6.15.20//NONSGML v1.0//EN
CALSCALE:GREGORIAN
METHOD:PUBLISH
X-ORIGINAL-URL:https://pointofrocksrvcampground.com
X-WR-CALDESC:Events for Point of Rocks Campground
REFRESH-INTERVAL;VALUE=DURATION:PT1H
X-Robots-Tag:noindex
X-PUBLISHED-TTL:PT1H
BEGIN:VTIMEZONE
TZID:America/Phoenix
BEGIN:STANDARD
TZOFFSETFROM:-0700
TZOFFSETTO:-0700
TZNAME:MST
DTSTART:20230101T000000
END:STANDARD
END:VTIMEZONE
BEGIN:VEVENT
DTSTART;VALUE=DATE:20241001
DTEND;VALUE=DATE:20270101
DTSTAMP:20260423T035548
CREATED:20241016T153211Z
LAST-MODIFIED:20260311T201939Z
UID:20573-1727740800-1798761599@pointofrocksrvcampground.com
SUMMARY:Prescott Bean Peaks Trails
DESCRIPTION:Bean Peaks – Gravity Flow Trails\nPrescott Bean Peaks Gravity Flow Trails will be the first of its kind in Arizona. \nBean Peaks gravity flow trails can be enjoyed by riders of many different ages and abilities. Riders can go faster or slower\, and many trail features can be either jumped or rolled over\, fostering progressive skill development while also providing challenges for expert riders. The trails have been designed to include adaptive bikes\, such as recumbent hand-pedaled bikes\, making them accessible for riders with limited mobility. \n \nCamp With Us! \nStay at Point of Rocks RV Campground\, Prescott’s premier RV campground. For 8 consecutive years\, our campground has received the highest ratings from our valued guests\, making Point of Rocks RV Campground Prescott’s top-rated campground. Conveniently situated next to Watson Lake Park\, our full-service campground provides all the amenities you need for a comfortable and enjoyable stay. Just a short 5-mile drive away\, Historic Downtown Prescott offers a glimpse into the city’s rich history and vibrant culture. \n\n10min walk to Watson Lake\nLow rates starting at $35\nPrivate Trail System\nClose to historic downtown\nFull service RV Campground\nView our Things to do page\nView our Events Page.\nView our Campground video\nView our Amenities page\nOpen all year\n\nNext to Watson Lake\n\n\nTake our private trail to Watson Lake.\nBiking & Hiking trails\n18 Disc Golf Course\nKayak and paddle board the lake\nTwo dock ramps\nFishing (trout/bass & catfish)\nBocce Ball Court\nGazebos with barbeques\nLarge grass area for a picnic\nBasketball court\n…and more fun!
URL:https://pointofrocksrvcampground.com/event/prescott-bean-peaks-gravity-flow-trails/
LOCATION:Bean Peaks Gravity Flow Trails\, Bean Peak\, Marapai Road\, Prescott\, AZ\, 86303\, United States
CATEGORIES:Prescott
ATTACH;FMTTYPE=image/jpeg:https://pointofrocksrvcampground.com/wp-content/uploads/2024/10/Website-Pics-bean-peak.1.jpeg
END:VEVENT
END:VCALENDAR