BEGIN:VCALENDAR
VERSION:2.0
PRODID:-//Point of Rocks Campground - ECPv6.15.20//NONSGML v1.0//EN
CALSCALE:GREGORIAN
METHOD:PUBLISH
X-WR-CALNAME:Point of Rocks Campground
X-ORIGINAL-URL:https://pointofrocksrvcampground.com
X-WR-CALDESC:Events for Point of Rocks Campground
REFRESH-INTERVAL;VALUE=DURATION:PT1H
X-Robots-Tag:noindex
X-PUBLISHED-TTL:PT1H
BEGIN:VTIMEZONE
TZID:America/Phoenix
BEGIN:STANDARD
TZOFFSETFROM:-0700
TZOFFSETTO:-0700
TZNAME:MST
DTSTART:20230101T000000
END:STANDARD
END:VTIMEZONE
BEGIN:VEVENT
DTSTART;VALUE=DATE:20241001
DTEND;VALUE=DATE:20270101
DTSTAMP:20260422T012720
CREATED:20241029T173432Z
LAST-MODIFIED:20260311T202001Z
UID:20608-1727740800-1798761599@pointofrocksrvcampground.com
SUMMARY:Point of Rocks RV Campground Blog Posts
DESCRIPTION:Point of Rocks RV Campground Blog Posts\nPoint of Rocks RV Campground  creates monthly Campground Blogs and Prescott Events. Stay updated on events and activities within the Prescott Area by subscribing to our blogs at the bottom of this page. Our Event Calendar is updated weekly and features some incredible events coming this holiday season and in 2026. These are the top picks for events to experience while visiting Prescott. \n \nCamp With Us! \nStay at Point of Rocks RV Campground\, Prescott’s premier RV campground. For 8 consecutive years\, our campground has received the highest ratings from our valued guests\, making Point of Rocks RV Campground Prescott’s top-rated campground. Conveniently situated next to Watson Lake Park\, our full-service campground provides all the amenities you need for a comfortable and enjoyable stay. Just a short 5-mile drive away\, Historic Downtown Prescott offers a glimpse into the city’s rich history and vibrant culture. \n\n10min walk to Watson Lake\nLow rates starting at $35\nPrivate Trail System\nClose to historic downtown\nFull service RV Campground\nView our Things to do page\nView our Events Page.\nView our Campground video\nView our Amenities page\nOpen all year\n\nNext to Watson Lake\n\n\nTake our private trail to Watson Lake.\nBiking & Hiking trails\n18 Disc Golf Course\nKayak and paddle board the lake\nTwo dock ramps\nFishing (trout/bass & catfish)\nBocce Ball Court\nGazebos with barbeques\nLarge grass area for a picnic\nBasketball court\n…and more fun!
URL:https://pointofrocksrvcampground.com/event/point-of-rocks-rv-campground-blog-posts/
LOCATION:Prescott Arizona\, Prescott\, AZ\, 86301\, United States
CATEGORIES:Point of Rocks RV Campground
ATTACH;FMTTYPE=image/jpeg:https://pointofrocksrvcampground.com/wp-content/uploads/2024/10/Website-Pics.1-1.jpeg
END:VEVENT
END:VCALENDAR