BEGIN:VCALENDAR
VERSION:2.0
PRODID:-//Point of Rocks Campground - ECPv6.15.20//NONSGML v1.0//EN
CALSCALE:GREGORIAN
METHOD:PUBLISH
X-WR-CALNAME:Point of Rocks Campground
X-ORIGINAL-URL:https://pointofrocksrvcampground.com
X-WR-CALDESC:Events for Point of Rocks Campground
REFRESH-INTERVAL;VALUE=DURATION:PT1H
X-Robots-Tag:noindex
X-PUBLISHED-TTL:PT1H
BEGIN:VTIMEZONE
TZID:America/Phoenix
BEGIN:STANDARD
TZOFFSETFROM:-0700
TZOFFSETTO:-0700
TZNAME:MST
DTSTART:20230101T000000
END:STANDARD
END:VTIMEZONE
BEGIN:VEVENT
DTSTART;TZID=America/Phoenix:20251212T173000
DTEND;TZID=America/Phoenix:20251212T203000
DTSTAMP:20260422T025019
CREATED:20240820T150454Z
LAST-MODIFIED:20251106T184130Z
UID:20216-1765560600-1765571400@pointofrocksrvcampground.com
SUMMARY:Prescott Acker Night
DESCRIPTION:Stay at Point of Rocks!\nCamp with us at Point of Rocks RV Campground for this special event. This Prescott’s Acker Night Musicial Showcase event is located just minutes from our campground. Thank you to our customers\, who voted for us 8 years in a row as Prescott’s Highest Rated Campground. Our full-service campground is conveniently located to visit Watson Lake Park\, Historic Downtown and Jerome Arizona. Plus\, we are only 5 miles from Historic Downtown Prescott (Whiskey Row). Lots of hiking and biking trails nearby.  \n\n10min walk to Watson Lake Park\nClose to historic downtown\nFull service RV Campground\nBathrooms with showers\nView our Things to do page\nWe are open all year\n\n \nPrescott Acker Night\n\nAcker Night has become a highlight of “Arizona’s Christmas City” events. Enjoy over 100 musicians performing all around downtown area shops. This is a FREE downtown event for everyone. The streets in downtown Prescott are closed and the businesses open their doors for a few hours for this wonderful evening event. The Christmas lights are gleaming\, and music fills the air for this special one night.
URL:https://pointofrocksrvcampground.com/event/prescott-acker-night/
LOCATION:Prescott Courthouse Square\, 120 South Cortez St\, Prescott\, AZ\, 86303\, United States
CATEGORIES:Live Music,Prescott,Prescott Courthouse Square
ATTACH;FMTTYPE=image/jpeg:https://pointofrocksrvcampground.com/wp-content/uploads/2024/03/Website-Pics-Shows.6.jpeg
END:VEVENT
BEGIN:VEVENT
DTSTART;VALUE=DATE:20240517
DTEND;VALUE=DATE:20240518
DTSTAMP:20260422T025019
CREATED:20240312T194655Z
LAST-MODIFIED:20240312T201118Z
UID:19504-1715904000-1715990399@pointofrocksrvcampground.com
SUMMARY:Pure Imagination Music Festival at Watson Lake
DESCRIPTION:Pure Imagination Music Festival at Watson Lake\nStay with us at Point of Rocks RV Campground for this event. Thank you to our customers\, who voted 6 years in a row as Prescott’s Highest Rated Campground. Our full-service campground provides you convenience to visit Watson Lake Park\, Willow Lake Park\, Jerome Arizona. Plus\, we are only 5 miles from Historic Downtown Prescott (Whiskey Row) \n\n10min walk to Watson Lake Park\nBook your favorite campsite online\nOur website provides campsite photos\nFull service RV Campground\nBathrooms with showers\nWi-Fi throughout the park\nSmall Camp Store (snacks\, shirts and hats)\n\n \nCampground next to Watson Lake\nTake a small walk (10mins) using our private trail through the Granite Dells to Watson Lake Park and enjoy! \n\nBiking & Hiking trails\n18 Disc Golf Course\nKayak and paddleboard the lake\nTwo dock ramps and fishing\nBocce Ball Court\nGazebos with barbeques\nLarge grass area for a picnic and more fun!\n\nPure Imagination Music Festival at Watson Lake\nSave the Date! Pure Imagination returns Friday\, May 17th and Saturday\, May 18th\, bringing diversity of sound and culture to a picturesque\, inspiring outdoor setting. We set the stage\, together we bring the vibes! Don’t miss 2024 with an eco-friendly focus\, a curated and eclectic line-up\, Pure Imagination is Arizona’s most unique music festival marrying soundscape and landscape while leaving limited impact on the gorgeous topography of the region and Prescott’s remarkable Watson Lake.\n\nScheduled Artists: The Flaming Lips\, Michael Franti & Spearhead\, and Sylvan Esso.
URL:https://pointofrocksrvcampground.com/event/pure-imagination-music-festival-at-watson-lake/
LOCATION:Watson Lake Park\, 3101 Watson Lake Rd\, Prescott\, AZ\, United States
CATEGORIES:Live Music,Prescott
END:VEVENT
END:VCALENDAR